BEGIN:VCALENDAR
PRODID:-//eluceo/ical//2.0/EN
VERSION:2.0
CALSCALE:GREGORIAN
BEGIN:VEVENT
UID:bcb6fe1211f7ffe6026d743f6a1d9c96
DTSTAMP:20260423T232514Z
SUMMARY:Familienapéro
DESCRIPTION:
URL:https://rotary-wil-hinterthurgau.ch/sv/agenda/show/61840
DTSTART;TZID=Europe/Zurich:20160924T103000
DTEND;TZID=Europe/Zurich:20160924T103000
LOCATION:z. Wilden Mann\, Wil
CATEGORIES:Rotary
END:VEVENT
BEGIN:VTIMEZONE
TZID:Europe/Zurich
BEGIN:DAYLIGHT
DTSTART:20160924T103000
TZNAME:CEST
TZOFFSETTO:+0200
TZOFFSETFROM:+0200
END:DAYLIGHT
END:VTIMEZONE
END:VCALENDAR
