BEGIN:VCALENDAR
PRODID:-//eluceo/ical//2.0/EN
VERSION:2.0
CALSCALE:GREGORIAN
BEGIN:VEVENT
UID:98b158dbff74930a5a25b7ee51ebf90c
DTSTAMP:20260423T173910Z
SUMMARY:Lunch: übers Spital Endamarariek\, von Sales Huber
DESCRIPTION:
URL:https://rotary-wil-hinterthurgau.ch/sv/agenda/show/61841
DTSTART;TZID=Europe/Zurich:20161007T121500
DTEND;TZID=Europe/Zurich:20161007T121500
LOCATION:Gasthaus Löwen Eschlikon
CATEGORIES:Rotary
END:VEVENT
BEGIN:VTIMEZONE
TZID:Europe/Zurich
BEGIN:DAYLIGHT
DTSTART:20161007T121500
TZNAME:CEST
TZOFFSETTO:+0200
TZOFFSETFROM:+0200
END:DAYLIGHT
END:VTIMEZONE
END:VCALENDAR
