BEGIN:VCALENDAR
PRODID:-//eluceo/ical//2.0/EN
VERSION:2.0
CALSCALE:GREGORIAN
BEGIN:VEVENT
UID:e12955bcbd2d1a4046eae8811c68caf2
DTSTAMP:20260423T155457Z
SUMMARY:Apéro: Energiewende\, Clemens Hasler
DESCRIPTION:Talare: Clemens Hasler ist Geschäftsführer der SN Energie\, S
 t. Gallen
URL:https://rotary-wil-hinterthurgau.ch/sv/agenda/show/61842
DTSTART;TZID=Europe/Zurich:20161010T183000
DTEND;TZID=Europe/Zurich:20161010T183000
LOCATION:Hof zu Wil
CATEGORIES:Rotary
END:VEVENT
BEGIN:VTIMEZONE
TZID:Europe/Zurich
BEGIN:DAYLIGHT
DTSTART:20161010T183000
TZNAME:CEST
TZOFFSETTO:+0200
TZOFFSETFROM:+0200
END:DAYLIGHT
END:VTIMEZONE
END:VCALENDAR
