BEGIN:VCALENDAR
PRODID:-//eluceo/ical//2.0/EN
VERSION:2.0
CALSCALE:GREGORIAN
BEGIN:VEVENT
UID:67f6514f18305e3cae0f8a1310c1b922
DTSTAMP:20260419T161526Z
SUMMARY:GV 1
DESCRIPTION:
URL:https://rotary-wil-hinterthurgau.ch/sv/agenda/show/61844
DTSTART;TZID=Europe/Zurich:20161104T120000
DTEND;TZID=Europe/Zurich:20161104T120000
LOCATION:Gasthaus Löwen Eschlikon
CATEGORIES:Rotary
END:VEVENT
BEGIN:VTIMEZONE
TZID:Europe/Zurich
BEGIN:STANDARD
DTSTART:20161104T120000
TZNAME:CET
TZOFFSETTO:+0100
TZOFFSETFROM:+0100
END:STANDARD
END:VTIMEZONE
END:VCALENDAR
