BEGIN:VCALENDAR
PRODID:-//eluceo/ical//2.0/EN
VERSION:2.0
CALSCALE:GREGORIAN
BEGIN:VEVENT
UID:58bc10f5b0be3265addb517950b8f414
DTSTAMP:20260419T131452Z
SUMMARY:Racletteplausch
DESCRIPTION:
URL:https://rotary-wil-hinterthurgau.ch/sv/agenda/show/61845
DTSTART;TZID=Europe/Zurich:20161112T190000
DTEND;TZID=Europe/Zurich:20161112T190000
LOCATION:Käsi Schurten
CATEGORIES:Rotary
END:VEVENT
BEGIN:VTIMEZONE
TZID:Europe/Zurich
BEGIN:STANDARD
DTSTART:20161112T190000
TZNAME:CET
TZOFFSETTO:+0100
TZOFFSETFROM:+0100
END:STANDARD
END:VTIMEZONE
END:VCALENDAR
