BEGIN:VCALENDAR
PRODID:-//eluceo/ical//2.0/EN
VERSION:2.0
CALSCALE:GREGORIAN
BEGIN:VEVENT
UID:de4bf433032363306814483bd834d316
DTSTAMP:20260419T143903Z
SUMMARY:Lunch mit Schweizer Botschafter in Schweden
DESCRIPTION:Talare: Rot. Richard Burlon
URL:https://rotary-wil-hinterthurgau.ch/sv/agenda/show/62342
DTSTART;TZID=Europe/Zurich:20161111T121500
DTEND;TZID=Europe/Zurich:20161111T140000
LOCATION:Gasthaus Löwen Eschlikon
CATEGORIES:Rotary
END:VEVENT
BEGIN:VTIMEZONE
TZID:Europe/Zurich
BEGIN:STANDARD
DTSTART:20161111T121500
TZNAME:CET
TZOFFSETTO:+0100
TZOFFSETFROM:+0100
END:STANDARD
END:VTIMEZONE
END:VCALENDAR
